BEGIN:VCALENDAR
VERSION:2.0
PRODID:-//Tarabela Creativa - ECPv6.15.13.1//NONSGML v1.0//EN
CALSCALE:GREGORIAN
METHOD:PUBLISH
X-WR-CALNAME:Tarabela Creativa
X-ORIGINAL-URL:https://tarabelacreativa.com
X-WR-CALDESC:Events for Tarabela Creativa
REFRESH-INTERVAL;VALUE=DURATION:PT1H
X-Robots-Tag:noindex
X-PUBLISHED-TTL:PT1H
BEGIN:VTIMEZONE
TZID:Europe/Madrid
BEGIN:DAYLIGHT
TZOFFSETFROM:+0100
TZOFFSETTO:+0200
TZNAME:CEST
DTSTART:20240331T010000
END:DAYLIGHT
BEGIN:STANDARD
TZOFFSETFROM:+0200
TZOFFSETTO:+0100
TZNAME:CET
DTSTART:20241027T010000
END:STANDARD
BEGIN:DAYLIGHT
TZOFFSETFROM:+0100
TZOFFSETTO:+0200
TZNAME:CEST
DTSTART:20250330T010000
END:DAYLIGHT
BEGIN:STANDARD
TZOFFSETFROM:+0200
TZOFFSETTO:+0100
TZNAME:CET
DTSTART:20251026T010000
END:STANDARD
BEGIN:DAYLIGHT
TZOFFSETFROM:+0100
TZOFFSETTO:+0200
TZNAME:CEST
DTSTART:20260329T010000
END:DAYLIGHT
BEGIN:STANDARD
TZOFFSETFROM:+0200
TZOFFSETTO:+0100
TZNAME:CET
DTSTART:20261025T010000
END:STANDARD
END:VTIMEZONE
BEGIN:VEVENT
DTSTART;TZID=Europe/Madrid:20250919T170000
DTEND;TZID=Europe/Madrid:20250919T233000
DTSTAMP:20260421T104224
CREATED:20250901T121352Z
LAST-MODIFIED:20250901T121352Z
UID:1881-1758301200-1758324600@tarabelacreativa.com
SUMMARY:De Cobo a Xunco
DESCRIPTION:PROGRAMACIÓN:\n\nREGATO (público infantil) – 17:00 h\nLocal social da Senra\nDa man de Marta Ortiz\n\n\n\nRÍO (público adulto) – 22:00 h\nAntigas Carboeiras de Sargadelos\nDa man de Soledad Felloza
URL:https://tarabelacreativa.com/evento/de-cobo-a-xunco-3/
LOCATION:Concello de Cervo
CATEGORIES:Adulto,Festival,Infantil,Narración oral
ATTACH;FMTTYPE=image/jpeg:https://tarabelacreativa.com/wp-content/uploads/2025/09/Cartaz-de-Cobo-a-Xunco.jpg
END:VEVENT
END:VCALENDAR