BEGIN:VCALENDAR
VERSION:2.0
PRODID:-//Tarabela Creativa - ECPv6.15.13.1//NONSGML v1.0//EN
CALSCALE:GREGORIAN
METHOD:PUBLISH
X-WR-CALNAME:Tarabela Creativa
X-ORIGINAL-URL:https://tarabelacreativa.com
X-WR-CALDESC:Events for Tarabela Creativa
REFRESH-INTERVAL;VALUE=DURATION:PT1H
X-Robots-Tag:noindex
X-PUBLISHED-TTL:PT1H
BEGIN:VTIMEZONE
TZID:Europe/Madrid
BEGIN:DAYLIGHT
TZOFFSETFROM:+0100
TZOFFSETTO:+0200
TZNAME:CEST
DTSTART:20240331T010000
END:DAYLIGHT
BEGIN:STANDARD
TZOFFSETFROM:+0200
TZOFFSETTO:+0100
TZNAME:CET
DTSTART:20241027T010000
END:STANDARD
BEGIN:DAYLIGHT
TZOFFSETFROM:+0100
TZOFFSETTO:+0200
TZNAME:CEST
DTSTART:20250330T010000
END:DAYLIGHT
BEGIN:STANDARD
TZOFFSETFROM:+0200
TZOFFSETTO:+0100
TZNAME:CET
DTSTART:20251026T010000
END:STANDARD
BEGIN:DAYLIGHT
TZOFFSETFROM:+0100
TZOFFSETTO:+0200
TZNAME:CEST
DTSTART:20260329T010000
END:DAYLIGHT
BEGIN:STANDARD
TZOFFSETFROM:+0200
TZOFFSETTO:+0100
TZNAME:CET
DTSTART:20261025T010000
END:STANDARD
END:VTIMEZONE
BEGIN:VEVENT
DTSTART;TZID=Europe/Madrid:20250504T183000
DTEND;TZID=Europe/Madrid:20250504T193000
DTSTAMP:20260423T005645
CREATED:20250402T151120Z
LAST-MODIFIED:20250430T190036Z
UID:1568-1746383400-1746387000@tarabelacreativa.com
SUMMARY:A Tarabela Ambulante: IDEA
DESCRIPTION:
URL:https://tarabelacreativa.com/evento/a-tarabela-ambulante-idea-4/
LOCATION:Auditorio Municipal de Mondariz. Concello de Mondariz.\, C. Calvo Sotelo\, 0 S/N\, Mondariz\, Pontevedra\, 36870\, Spain
CATEGORIES:Infantil,Teatro
ATTACH;FMTTYPE=image/jpeg:https://tarabelacreativa.com/wp-content/uploads/2025/03/a-tarabela-ambulante-idea-04.jpg
END:VEVENT
BEGIN:VEVENT
DTSTART;TZID=Europe/Madrid:20250509T210000
DTEND;TZID=Europe/Madrid:20250509T220000
DTSTAMP:20260423T005645
CREATED:20250401T174150Z
LAST-MODIFIED:20250430T185949Z
UID:1553-1746824400-1746828000@tarabelacreativa.com
SUMMARY:O que non estaba escrito
DESCRIPTION:
URL:https://tarabelacreativa.com/evento/o-que-non-estaba-escrito/
LOCATION:Concello de Carnota\, Carnota\, A Coruña
CATEGORIES:Adulto,Narración oral
ATTACH;FMTTYPE=image/jpeg:https://tarabelacreativa.com/wp-content/uploads/2025/03/o-que-non-estaba-escrito-01.jpg
END:VEVENT
BEGIN:VEVENT
DTSTART;TZID=Europe/Madrid:20250523T200000
DTEND;TZID=Europe/Madrid:20250523T220000
DTSTAMP:20260423T005645
CREATED:20250430T190529Z
LAST-MODIFIED:20250430T190529Z
UID:1601-1748030400-1748037600@tarabelacreativa.com
SUMMARY:Boa sorte\, mala fama
DESCRIPTION:
URL:https://tarabelacreativa.com/evento/boa-sorte-mala-fama-5/
LOCATION:Centro cultural. Concello de A Guarda\, Rúa Rosalía de Castro\, Nº 14\, A Guarda\, Pontevedra\, 36780\, Spain
CATEGORIES:Adulto,Teatro
ATTACH;FMTTYPE=image/jpeg:https://tarabelacreativa.com/wp-content/uploads/2025/03/BSMF1.jpg
END:VEVENT
BEGIN:VEVENT
DTSTART;TZID=Europe/Madrid:20250525T180000
DTEND;TZID=Europe/Madrid:20250525T190000
DTSTAMP:20260423T005645
CREATED:20250401T173747Z
LAST-MODIFIED:20250513T095017Z
UID:1550-1748196000-1748199600@tarabelacreativa.com
SUMMARY:A Tarabela Ambulante: IDEA
DESCRIPTION:
URL:https://tarabelacreativa.com/evento/a-tarabela-ambulante-idea/
LOCATION:Auditorio Municipal do Rosal\, Rúa Ramón Franco\, 24\, O Rosal\, Pontevedra\, 36770
CATEGORIES:Infantil,Teatro
ATTACH;FMTTYPE=image/jpeg:https://tarabelacreativa.com/wp-content/uploads/2025/03/a-tarabela-ambulante-idea-06.jpg
END:VEVENT
END:VCALENDAR