BEGIN:VCALENDAR
VERSION:2.0
PRODID:-//Tarabela Creativa - ECPv6.15.13.1//NONSGML v1.0//EN
CALSCALE:GREGORIAN
METHOD:PUBLISH
X-WR-CALNAME:Tarabela Creativa
X-ORIGINAL-URL:https://tarabelacreativa.com
X-WR-CALDESC:Events for Tarabela Creativa
REFRESH-INTERVAL;VALUE=DURATION:PT1H
X-Robots-Tag:noindex
X-PUBLISHED-TTL:PT1H
BEGIN:VTIMEZONE
TZID:Europe/Madrid
BEGIN:DAYLIGHT
TZOFFSETFROM:+0100
TZOFFSETTO:+0200
TZNAME:CEST
DTSTART:20240331T010000
END:DAYLIGHT
BEGIN:STANDARD
TZOFFSETFROM:+0200
TZOFFSETTO:+0100
TZNAME:CET
DTSTART:20241027T010000
END:STANDARD
BEGIN:DAYLIGHT
TZOFFSETFROM:+0100
TZOFFSETTO:+0200
TZNAME:CEST
DTSTART:20250330T010000
END:DAYLIGHT
BEGIN:STANDARD
TZOFFSETFROM:+0200
TZOFFSETTO:+0100
TZNAME:CET
DTSTART:20251026T010000
END:STANDARD
BEGIN:DAYLIGHT
TZOFFSETFROM:+0100
TZOFFSETTO:+0200
TZNAME:CEST
DTSTART:20260329T010000
END:DAYLIGHT
BEGIN:STANDARD
TZOFFSETFROM:+0200
TZOFFSETTO:+0100
TZNAME:CET
DTSTART:20261025T010000
END:STANDARD
END:VTIMEZONE
BEGIN:VEVENT
DTSTART;TZID=Europe/Madrid:20250813T160000
DTEND;TZID=Europe/Madrid:20250813T190000
DTSTAMP:20260421T104044
CREATED:20250804T180047Z
LAST-MODIFIED:20250804T180047Z
UID:1862-1755100800-1755111600@tarabelacreativa.com
SUMMARY:Videopódcast "Cruza sen mirar"
DESCRIPTION:
URL:https://tarabelacreativa.com/evento/videopodcast-cruza-sen-mirar/
LOCATION:Concello de Culleredo
CATEGORIES:Proxectos
ATTACH;FMTTYPE=image/jpeg:https://tarabelacreativa.com/wp-content/uploads/2025/07/514665890_1348292510437765_74629470616033485_n.jpg
END:VEVENT
BEGIN:VEVENT
DTSTART;TZID=Europe/Madrid:20250827T130000
DTEND;TZID=Europe/Madrid:20250827T150000
DTSTAMP:20260421T104044
CREATED:20250804T180304Z
LAST-MODIFIED:20250804T180304Z
UID:1865-1756299600-1756306800@tarabelacreativa.com
SUMMARY:Videopódcast "Cruza sen Mirar"
DESCRIPTION:
URL:https://tarabelacreativa.com/evento/videopodcast-cruza-sen-mirar-2/
LOCATION:Concello de Santa Comba
CATEGORIES:Proxectos
ATTACH;FMTTYPE=image/jpeg:https://tarabelacreativa.com/wp-content/uploads/2025/07/514665890_1348292510437765_74629470616033485_n.jpg
END:VEVENT
END:VCALENDAR